BEGIN:VCALENDAR
VERSION:2.0
PRODID:-//ChamberMaster//Event Calendar 2.0//EN
METHOD:PUBLISH
X-PUBLISHED-TTL:P3D
REFRESH-INTERVAL:P3D
CALSCALE:GREGORIAN
BEGIN:VEVENT
DTSTART:20201106T160000Z
DTEND:20201106T171500Z
X-MICROSOFT-CDO-ALLDAYEVENT:FALSE
SUMMARY:2020 Acheson Business Association Annual General Meeting
DESCRIPTION:Help us make ABA history\n\nJoin us at our 1st ever Virtual AGM!\n\n\n\n Vote on issues of importance for the Acheson Industrial Park\, contribute to the good governance of the business association and elect the association's board of directors. \n\n\n\nThen\, hear our keynote speaker talk about the "Arrival Of The Virtual Future" at our upcoming Annual General Meeting. Ryan Vestby is the CEO of CompuVision\, one of Canada's largest IT managed service providers\, leveraging technological innovations for businesses today and tomorrow. \n\n \n\nDetails:\n\n\n	Date: Friday\, November 6\, 2020\n	Time: 9 am - 10:15 am\n	Location: Webinar
X-ALT-DESC;FMTTYPE=text/html:<h3 class="null" style="text-align: center\;"><span style="font-family:arial\;"><span style="color:#333333\;"><span style="font-size:24.0pt\;">Help us make ABA history</span></span><br />\n<span style="color:#333333\;"><span style="font-size:13.5pt\;">Join us at our 1st ever Virtual AGM!</span></span><br />\n<br />\n<span style="color:#333333\;"><span style="font-size:13.5pt\;">&#8203\;</span></span><span style="color:#0E101A\;"><span style="font-size:10.0pt\;">Vote on issues of importance for the Acheson Industrial Park\, contribute to the good governance of the business association and elect the association&#39\;s board of directors.</span></span>&nbsp\;<br />\n<br />\n<span style="color:#0E101A\;"><span style="font-size:10.0pt\;">Then\, hear our keynote speaker talk about the&nbsp\;<u>&quot\;Arrival Of The Virtual Future&quot\;</u>&nbsp\;at our upcoming Annual General Meeting.&nbsp\;</span></span><span style="color:#333333\;"><span style="font-size:10.0pt\;">Ryan Vestby is the CEO of CompuVision\,&nbsp\;<strong>one of Canada&rsquo\;s largest IT managed service providers\,</strong>&nbsp\;leveraging technological innovations for businesses today and tomorrow.&nbsp\;</span></span></span><br />\n&nbsp\;</h3>\n\n<h3 class="null"><span style="font-family:arial\;"><span style="color:#333333\;"><span style="font-size:13.5pt\;">Details:</span></span></span></h3>\n\n<ul>\n	<li style="color:#333333\;line-height:normal\;"><span style="font-family:arial\;"><strong><span style="font-size:10.0pt\;">Date:&nbsp\;</span></strong><span style="font-size:10.0pt\;">Friday\, November 6\, 2020</span></span></li>\n	<li style="color:#333333\;line-height:normal\;"><span style="font-family:arial\;"><strong><span style="font-size:10.0pt\;">Time:</span></strong><span style="font-size:10.0pt\;">&nbsp\;9 am - 10:15 am</span></span></li>\n	<li style="color:#333333\;line-height:normal\;"><span style="font-family:arial\;"><strong><span style="font-size:10.0pt\;">Location: Webinar</span></strong></span></li>\n</ul>\n
LOCATION:A webinar link will be sent 24 hours prior to the event.
UID:e.9254.227
SEQUENCE:3
DTSTAMP:20260423T093349Z
URL:https://members.achesonbusiness.com/events/details/2020-acheson-business-association-annual-general-meeting-227
END:VEVENT

END:VCALENDAR
