BEGIN:VCALENDAR
VERSION:2.0
PRODID:-//ChamberMaster//Event Calendar 2.0//EN
METHOD:PUBLISH
X-PUBLISHED-TTL:P3D
REFRESH-INTERVAL:P3D
CALSCALE:GREGORIAN
BEGIN:VEVENT
DTSTART:20200312T233000Z
DTEND:20200313T031500Z
X-MICROSOFT-CDO-ALLDAYEVENT:FALSE
SUMMARY:2020 State of the Region Address
DESCRIPTION:The Greater Parkland Regional Chamber of Commerce welcomes Mayor Rod Shaigec of Parkland County\, Mayor Stuart Houston of the City of Spruce Grove\, Mayor William Choy of the Town of Stony Plain\, and Mayor Charlene Smylie of the Village of Wabamun as our guest presenters for the Annual Mayors' Regional Address\, Thursday\, March 12th Spruce Grove Hall at Heritage Park in Stony Plain.\n\n\n\nOur region continues to welcome new business to our many industrial and commercial parks which continue to grow despite economic challenges. The Chamber is pleased to host this dinner event and offer our guests a phenomenal buffet dinner. Our Mayors' are the highlight of the evening as they share with our guests the future-focused developments and plans for the region.
X-ALT-DESC;FMTTYPE=text/html:The Greater Parkland Regional Chamber of Commerce welcomes Mayor Rod Shaigec of Parkland County\, Mayor Stuart Houston of the City of Spruce Grove\, Mayor William Choy of the Town of Stony Plain\, and Mayor Charlene Smylie of the Village of Wabamun as our guest presenters for the Annual Mayors&#39\; Regional Address\, Thursday\, March 12th Spruce Grove Hall at Heritage Park in Stony Plain.<br />\n<br />\nOur region continues to welcome new business to our many industrial and commercial parks which continue to grow despite economic challenges. The Chamber is pleased to host this dinner event and offer our guests a phenomenal buffet dinner. Our Mayors&#39\; are the highlight of the evening as they share with our guests the future-focused developments and plans for the region.
LOCATION:Spruce Grove Hall at Heritage Park 5100 - 41 Avenue Stony Plain\, AB T7Z 0B4
UID:e.9254.225
SEQUENCE:3
DTSTAMP:20260423T202314Z
URL:https://members.achesonbusiness.com/events/details/2020-state-of-the-region-address-225
END:VEVENT

END:VCALENDAR
