BEGIN:VCALENDAR
VERSION:2.0
PRODID:-//ChamberMaster//Event Calendar 2.0//EN
METHOD:PUBLISH
X-PUBLISHED-TTL:P3D
REFRESH-INTERVAL:P3D
CALSCALE:GREGORIAN
BEGIN:VEVENT
DTSTART:20221123T230000Z
DTEND:20221124T010000Z
X-MICROSOFT-CDO-ALLDAYEVENT:FALSE
SUMMARY:2022 Acheson Business Association Annual General Meeting and Holiday Networking Event
DESCRIPTION:Join us at our Annual General Meeting as we review the highlights of this past year and elect two new members to our Board as well as hear an exciting new announcement regarding transit for Acheson in 2023!\n\n\n\nAfter the event\, stay for some networking as we host a Taste of the Acheson Region with some fantastic food and beverage samples from the following local area business:\n\n	Anohka Distillery\n	Country Stone Distillery\n	Talking Dog Brewery\n	Glowing Embers Catering\n	The Pretzel Shack\n	Just Bite Me Meals\n	Mally's Finest in Seafood & Gourmet\n\n\n\nWe will also be kicking off our annual Acheson Christmas Hamper drive collection program  and hear from members of the Stony Plain Kinsmen and Spruce Grove Kinettes about the importance and impact this program has in our Tri-Region community.\n\n \n\nThe AGM will be an in-person gathering and is open to all current members of the association in good standing. Members in good standing will be provided with AGM packages and voting instructions prior to November 23.
X-ALT-DESC;FMTTYPE=text/html:Join us at our Annual General Meeting as we review the highlights of this past year and elect two new members to our Board as well as hear an exciting new announcement regarding transit for Acheson in 2023!<br />\n<br />\nAfter the event\, stay for some networking as we host a Taste of the Acheson Region with some fantastic food and beverage samples from the following local area business:\n<ul>\n	<li>Anohka Distillery</li>\n	<li>Country Stone Distillery</li>\n	<li>Talking Dog Brewery</li>\n	<li>Glowing Embers Catering</li>\n	<li>The Pretzel Shack</li>\n	<li>Just Bite Me Meals</li>\n	<li>Mally&#39\;s Finest in Seafood &amp\; Gourmet</li>\n</ul>\n<br />\nWe will also be kicking off our annual Acheson Christmas Hamper drive collection program&nbsp\; and hear from members of the Stony Plain Kinsmen and Spruce Grove Kinettes about the importance and impact this program has in our Tri-Region community.<br />\n&nbsp\;<br />\nThe AGM will be an in-person gathering and is open to all current members of the association in good standing. Members in good standing will be provided with AGM packages and voting instructions prior to November 23.
LOCATION:Supreme Steel 28169 96 Ave NW Acheson\, AB T7X 6J7
UID:e.9254.2079
SEQUENCE:3
DTSTAMP:20260419T182654Z
URL:https://members.achesonbusiness.com/events/details/2022-acheson-business-association-annual-general-meeting-and-holiday-networking-event-2079
END:VEVENT

END:VCALENDAR
