BEGIN:VCALENDAR
VERSION:2.0
PRODID:-//ChamberMaster//Event Calendar 2.0//EN
METHOD:PUBLISH
X-PUBLISHED-TTL:P3D
REFRESH-INTERVAL:P3D
CALSCALE:GREGORIAN
BEGIN:VEVENT
DTSTART:20220617T130000Z
DTEND:20220617T220000Z
X-MICROSOFT-CDO-ALLDAYEVENT:FALSE
SUMMARY:2022 Acheson Golf Tournament
DESCRIPTION:Join us on Friday\, June 17th\, 2022\, for a classic Texas Scramble golf tournament at The Ranch Golf & Country Club. Come out to showcase your business\, golf with clients and associates. Network with our members\, business owners\, and stakeholders of Acheson all while supporting the Acheson Business Association (ABA).\n\n\n\nThis year a portion of the funds raised during the tournament will be going to our community partners\, the Spruce Grove Kinettes and Stony Plain Kinsmen.\n\n\n\nThis event sells out quickly. Book your spot today!\n\n\n\nFeatures:\n\n\n	Breakfast sandwiches and coffee at the start\n	Complimentary snacks in swag bags for all golfers\n	BBQ Steak dinner banquet & Prize presentations\n	Food trucks on location for complimentary treats & snacks\n	Take home gift
X-ALT-DESC;FMTTYPE=text/html:&nbsp\;Join us on Friday\, June 17th\, 2022\, for a classic Texas Scramble golf tournament at The Ranch Golf &amp\; Country Club. Come out to showcase your business\, golf with clients and associates. Network with our members\, business owners\, and stakeholders of Acheson all while supporting the Acheson Business Association (ABA).<br />\n<br />\nThis year a portion of the funds raised during the tournament will be going to our community partners\, the Spruce Grove Kinettes and Stony Plain Kinsmen.<br />\n<br />\n<strong>This event sells out quickly. Book your spot today!</strong><br />\n<br />\n<strong>Features:</strong>\n<div>\n<ul>\n	<li>Breakfast sandwiches and coffee at the start</li>\n	<li>Complimentary snacks in swag bags for all golfers</li>\n	<li>BBQ Steak dinner banquet &amp\; Prize presentations</li>\n	<li>Food trucks on location for complimentary treats &amp\; snacks</li>\n	<li>Take home gift</li>\n</ul>\n</div>\n
LOCATION:The Ranch Golf & Country Club
UID:e.9254.2065
SEQUENCE:3
DTSTAMP:20260422T073518Z
URL:https://members.achesonbusiness.com/events/details/2022-acheson-golf-tournament-2065
END:VEVENT

END:VCALENDAR
