BEGIN:VCALENDAR
VERSION:2.0
PRODID:-//ChamberMaster//Event Calendar 2.0//EN
METHOD:PUBLISH
X-PUBLISHED-TTL:P3D
REFRESH-INTERVAL:P3D
CALSCALE:GREGORIAN
BEGIN:VEVENT
DTSTART:20231108T143000Z
DTEND:20231108T163000Z
X-MICROSOFT-CDO-ALLDAYEVENT:FALSE
SUMMARY:2023 Acheson Business Association Annual General Meeting
DESCRIPTION:We invite our members to join us for our upcoming Annual General Meeting breakfast. Come out to hear what the Association has accomplished and the direction for the upcoming year.  This is also your opportunity to vote in three new members to the board of directors\, who will help shape the direction and future growth of the Association.\n\n\n\nAttend the AGM and listen to Tyler Pelke\, our inspiring keynote speaker. Tyler's story of resilience\, overcoming challenges\, and promoting mental health will motivate you in both your personal and professional lives.\n\n\n\nAs a survivor of a violent crime and a burn victim\, Tyler has experienced firsthand the importance of mental well-being. He will share his journey and inspire you to embrace adversity and live a purposeful life.\n\n\n\nDespite sustaining severe burns\, Tyler pursued a career as a Firefighter/Paramedic and has risen through the ranks in the Canadian Fire services. He currently holds the position of Deputy Chief for the Red Deer Fire Department. Tyler's dedication to public safety and disaster response has earned him prestigious awards\, including the Queens Platinum Jubilee Medal. Don't miss this opportunity to gain valuable insights from Tyler and develop a healthier perspective on life.\n\n\n\nNominations for Board Positions: CLOSED\n\nWe are now accepting nominations for three seats on the board.  Two from Acheson and one Associate Member position. If you are interested\, learn more here.
X-ALT-DESC;FMTTYPE=text/html:We invite our members to join us for our upcoming Annual General Meeting breakfast. Come out to hear what the Association has accomplished and the direction for the upcoming year.&nbsp\; This is also your opportunity to vote in three new members to the board of directors\, who will help shape the direction and future growth of the Association.<br />\n<br />\nAttend the AGM and listen to Tyler Pelke\, our inspiring keynote speaker. Tyler&#39\;s story of resilience\, overcoming challenges\, and promoting mental health will motivate you in both your personal and professional lives.<br />\n<br />\nAs a survivor of a violent crime and a burn victim\, Tyler has experienced firsthand the importance of mental well-being. He will share his journey and inspire you to embrace adversity and live a purposeful life.<br />\n<br />\nDespite sustaining severe burns\, Tyler pursued a career as a Firefighter/Paramedic and has risen through the ranks in the Canadian Fire services. He currently holds the position of Deputy Chief for the Red Deer Fire Department. Tyler&#39\;s dedication to public safety and disaster response has earned him prestigious awards\, including the Queens Platinum Jubilee Medal. Don&#39\;t miss this opportunity to gain valuable insights from Tyler and develop a healthier perspective on life.<br />\n<br />\n<strong>Nominations for Board Positions: CLOSED</strong><br />\nWe are now accepting nominations for three seats on the board.&nbsp\; Two from Acheson and one Associate Member position. <a href="https://www.achesonbusiness.com/board-nominations/" target="_blank"><strong>If you are interested\, learn more here.</strong></a>
LOCATION:Supreme Steel 28169 96 Ave NW Acheson\, AB T7X 6J7
UID:e.9254.6157
SEQUENCE:3
DTSTAMP:20260420T134810Z
URL:https://members.achesonbusiness.com/events/details/2023-acheson-business-association-annual-general-meeting-6157
END:VEVENT

END:VCALENDAR
