BEGIN:VCALENDAR
VERSION:2.0
PRODID:-//ChamberMaster//Event Calendar 2.0//EN
METHOD:PUBLISH
X-PUBLISHED-TTL:P3D
REFRESH-INTERVAL:P3D
CALSCALE:GREGORIAN
BEGIN:VEVENT
DTSTART:20230930T230000Z
DTEND:20231001T033000Z
X-MICROSOFT-CDO-ALLDAYEVENT:FALSE
SUMMARY:2023 Acheson Business Awards Gala
DESCRIPTION:Nominations for the 2023 Acheson Business Awards are now closed.\n\n\n\nThe Annual Business Awards & Gala is a premier Acheson event. A must-attend night for business owners\, employees\, stakeholders\, and members of the business community. The Gala celebrates business excellence\, innovation\, community involvement\, and leadership within our Business Association membership.\n\n\n\nThe Business Awards Gala includes over 300 guests from the area's industry and government leaders. Organizations of every size are recognized\, from small businesses to international companies\, showing diversity and excellence in our community.\n\n\n\nThis year we are presenting the Lifetime Achievement Award to Darlene Whittaker of Reliable Tube. Join us as we highlight and celebrate Acheson's best-kept secrets.
X-ALT-DESC;FMTTYPE=text/html:<strong>Nominations for the 2023 Acheson Business Awards are now closed.</strong><br />\n<br />\nThe Annual Business Awards &amp\; Gala is a premier Acheson event. A must-attend night for business owners\, employees\, stakeholders\, and members of the business community. The Gala celebrates business excellence\, innovation\, community involvement\, and leadership within our Business Association membership.<br />\n<br />\nThe Business Awards Gala includes over 300 guests from the area&#39\;s industry and government leaders. Organizations of every size are recognized\, from small businesses to international companies\, showing diversity and excellence in our community.<br />\n<br />\nThis year we are presenting the Lifetime Achievement Award to <strong>Darlene Whittaker of Reliable Tube</strong>. Join us as we highlight and celebrate Acheson&#39\;s best-kept secrets.
LOCATION:DoubleTree by Hilton West Edmonton
UID:e.9254.2084
SEQUENCE:3
DTSTAMP:20260420T122506Z
URL:https://members.achesonbusiness.com/events/details/2023-acheson-business-awards-gala-2084
END:VEVENT

END:VCALENDAR
