BEGIN:VCALENDAR
VERSION:2.0
PRODID:-//ChamberMaster//Event Calendar 2.0//EN
METHOD:PUBLISH
X-PUBLISHED-TTL:P3D
REFRESH-INTERVAL:P3D
CALSCALE:GREGORIAN
BEGIN:VEVENT
DTSTART:20230616T130000Z
DTEND:20230616T210000Z
X-MICROSOFT-CDO-ALLDAYEVENT:FALSE
SUMMARY:2023 Acheson Golf Tournament
DESCRIPTION:Join us on Friday\, June 16th\, 2023\, for the 8th annual ABA golf tournament at The Ranch Golf & Country Club. Come out to showcase your business and golf with clients and associates. Network with our members\, business owners\, and stakeholders of Acheson all while supporting the Acheson Business Association (ABA).\n\n\n\nOnce again\, this year all funds raised through mulligan sales during the tournament will be going to our community partners\, the Spruce Grove Kinettes and Stony Plain Kinsmen for their Christmas Hamper Campaign.\n\n\n\nThis event sells out quickly. Book your spot today!\n\n\n\nFeatures:\n\n\n	Breakfast and coffee at the start\n	Complimentary snacks in swag bags for all golfers\n	Banquet & prize presentations\n	Take home gift for all participants and much more!
X-ALT-DESC;FMTTYPE=text/html:&nbsp\;Join us on Friday\, June 16th\, 2023\, for the 8th annual ABA golf tournament at The Ranch Golf &amp\; Country Club. Come out to showcase your business and golf with clients and associates. Network with our members\, business owners\, and stakeholders of Acheson all while supporting the Acheson Business Association (ABA).<br />\n<br />\nOnce again\, this year all funds raised through mulligan sales during the tournament will be going to our community partners\, the Spruce Grove Kinettes and Stony Plain Kinsmen for their Christmas Hamper Campaign.<br />\n<br />\n<strong>This event sells out quickly. Book your spot today!</strong><br />\n<br />\n<strong>Features:</strong>\n<div>\n<ul>\n	<li>Breakfast&nbsp\;and coffee at the start</li>\n	<li>Complimentary snacks in swag bags for all golfers</li>\n	<li>Banquet &amp\; prize presentations</li>\n	<li>Take home gift for all participants&nbsp\;and much more!</li>\n</ul>\n</div>\n
LOCATION:The Ranch Golf & Country Club
UID:e.9254.2080
SEQUENCE:3
DTSTAMP:20260420T064118Z
URL:https://members.achesonbusiness.com/events/details/2023-acheson-golf-tournament-2080
END:VEVENT

END:VCALENDAR
