BEGIN:VCALENDAR
VERSION:2.0
PRODID:-//ChamberMaster//Event Calendar 2.0//EN
METHOD:PUBLISH
X-PUBLISHED-TTL:P3D
REFRESH-INTERVAL:P3D
CALSCALE:GREGORIAN
BEGIN:VEVENT
DTSTART:20240417T133000Z
DTEND:20240417T160000Z
X-MICROSOFT-CDO-ALLDAYEVENT:FALSE
SUMMARY:2024 Acheson Business Breakfast
DESCRIPTION:Join the Acheson Business Association and Parkland County as we co-host an engaging business breakfast at Supreme Steel in Acheson on April 17th.\n\n\n\nParkland County Mayor\, Council and senior administration will share important information and updates on Acheson's planned capital and infrastructure projects. \n\n\n\nThis is your opportunity to network with other businesses in Acheson and hear timely information on the current and long term projects and plans for Acheson. This is also your opportunity to ask questions of County officials and staff.\n\n\n\nAt the breakfast a number of Parkland County departments will be situated around the room to share information on County initiatives.\n\n\n\nDon't miss out\, register today!
X-ALT-DESC;FMTTYPE=text/html:Join the Acheson Business Association and Parkland County as we co-host an engaging business breakfast at Supreme Steel in Acheson on April 17th.<br />\n<br />\nParkland County Mayor\, Council and senior administration will share important information and updates on Acheson&#39\;s planned capital and infrastructure projects.&nbsp\;<br />\n<br />\nThis is your opportunity to network with other businesses in Acheson and hear timely information on the current and long term projects and plans for Acheson. This is also your opportunity to ask questions of County officials and staff.<br />\n<br />\nAt the breakfast a number of Parkland County departments will be situated around the room to share information on County initiatives.<br />\n<br />\nDon&#39\;t miss out\, register today!
LOCATION:Supreme Steel 28169 96 Ave Zone 5
UID:e.9254.6165
SEQUENCE:3
DTSTAMP:20260420T202940Z
URL:https://members.achesonbusiness.com/events/details/2024-acheson-business-breakfast-6165
END:VEVENT

END:VCALENDAR
