BEGIN:VCALENDAR
VERSION:2.0
PRODID:-//ChamberMaster//Event Calendar 2.0//EN
METHOD:PUBLISH
X-PUBLISHED-TTL:P3D
REFRESH-INTERVAL:P3D
CALSCALE:GREGORIAN
BEGIN:VEVENT
DTSTART:20240614T130000Z
DTEND:20240614T210000Z
X-MICROSOFT-CDO-ALLDAYEVENT:FALSE
SUMMARY:2024 Acheson Golf Tournament
DESCRIPTION:Join us on Friday\, June 14th\, 2024\, for the 9th annual ABA golf tournament at The Ranch Golf & Country Club. Come out to showcase your business and golf with clients and associates. Network with our members\, business owners\, and stakeholders of Acheson all while supporting the Acheson Business Association (ABA).\n\n\n\nThis year funds raised through mulligan sales during the tournament will be going to the Parkland Food Bank.\n\n\n\nThis event sells out quickly. Book your spot today!\n\n\n\nFeatures:\n\n\n	Breakfast and coffee at the start\n	Complimentary snacks in swag bags for all golfers\n	Banquet & prize presentations\n	Take home gift for all participants and much more!
X-ALT-DESC;FMTTYPE=text/html:&nbsp\;Join us on Friday\, June 14th\, 2024\, for the 9th annual ABA golf tournament at The Ranch Golf &amp\; Country Club. Come out to showcase your business and golf with clients and associates. Network with our members\, business owners\, and stakeholders of Acheson all while supporting the Acheson Business Association (ABA).<br />\n<br />\nThis year funds raised through mulligan sales during the tournament will be going to the Parkland Food Bank.<br />\n<br />\n<strong>This event sells out quickly. Book your spot today!</strong><br />\n<br />\n<strong>Features:</strong>\n<div>\n<ul>\n	<li>Breakfast&nbsp\;and coffee at the start</li>\n	<li>Complimentary snacks in swag bags for all golfers</li>\n	<li>Banquet &amp\; prize presentations</li>\n	<li>Take home gift for all participants&nbsp\;and much more!</li>\n</ul>\n</div>\n
LOCATION:The Ranch Golf & Country Club
UID:e.9254.6164
SEQUENCE:3
DTSTAMP:20260420T232704Z
URL:https://members.achesonbusiness.com/events/details/2024-acheson-golf-tournament-6164
END:VEVENT

END:VCALENDAR
