BEGIN:VCALENDAR
VERSION:2.0
PRODID:-//ChamberMaster//Event Calendar 2.0//EN
METHOD:PUBLISH
X-PUBLISHED-TTL:P3D
REFRESH-INTERVAL:P3D
CALSCALE:GREGORIAN
BEGIN:VEVENT
DTSTART:20241207T000000Z
DTEND:20241207T023000Z
X-MICROSOFT-CDO-ALLDAYEVENT:FALSE
SUMMARY:Acheson Festival of Trees Networking and Live Auction 2024
DESCRIPTION:Join us for this festive gathering as we come together as the business community to celebrate the generosity and the joy of the holiday season in a fun social event as we wrap up the toy and food drive in support of the Parkland Food Bank\, Spruce Grove Kinette and Stony Plain Kinsmen Christmas Hamper Program.\n\n\n\nEnjoy some food and drinks as you wander through the WSTN Acheson Festival of Trees\, where we will announce the winners of the best-decorated tree. You will have an opportunity to bid on your favourite tree to take back to the office or your home.\n\n\n\nAll proceeds from the live auction will be donated to the Christmas Hamper Program.
X-ALT-DESC;FMTTYPE=text/html:<p style="box-sizing: inherit\; margin: 0px\; padding: 0px\; border: var(--artdeco-reset-base-border-zero)\; font-size: 20px\; vertical-align: var(--artdeco-reset-base-vertical-align-baseline)\; background-color: rgb(255\, 255\, 255)\; line-height: 1.5\; color: rgba(0\, 0\, 0\, 0.9)\; font-family: -apple-system\, system-ui\, BlinkMacSystemFont\, &quot\;Segoe UI&quot\;\, Roboto\, &quot\;Helvetica Neue&quot\;\, &quot\;Fira Sans&quot\;\, Ubuntu\, Oxygen\, &quot\;Oxygen Sans&quot\;\, Cantarell\, &quot\;Droid Sans&quot\;\, &quot\;Apple Color Emoji&quot\;\, &quot\;Segoe UI Emoji&quot\;\, &quot\;Segoe UI Emoji&quot\;\, &quot\;Segoe UI Symbol&quot\;\, &quot\;Lucida Grande&quot\;\, Helvetica\, Arial\, sans-serif\; cursor: text\; counter-reset: list-1 0 list-2 0 list-3 0 list-4 0 list-5 0 list-6 0 list-7 0 list-8 0 list-9 0\; white-space-collapse: preserve\;">Join us for this festive gathering as we come together as the business community to celebrate the generosity and the joy of the holiday season in a fun social event&nbsp\;as we wrap up the toy and food drive in support of the Parkland Food Bank\, Spruce Grove Kinette and Stony Plain Kinsmen Christmas Hamper Program.</p>\n\n<p style="box-sizing: inherit\; margin: 0px\; padding: 0px\; border: var(--artdeco-reset-base-border-zero)\; font-size: 20px\; vertical-align: var(--artdeco-reset-base-vertical-align-baseline)\; background-color: rgb(255\, 255\, 255)\; line-height: 1.5\; color: rgba(0\, 0\, 0\, 0.9)\; font-family: -apple-system\, system-ui\, BlinkMacSystemFont\, &quot\;Segoe UI&quot\;\, Roboto\, &quot\;Helvetica Neue&quot\;\, &quot\;Fira Sans&quot\;\, Ubuntu\, Oxygen\, &quot\;Oxygen Sans&quot\;\, Cantarell\, &quot\;Droid Sans&quot\;\, &quot\;Apple Color Emoji&quot\;\, &quot\;Segoe UI Emoji&quot\;\, &quot\;Segoe UI Emoji&quot\;\, &quot\;Segoe UI Symbol&quot\;\, &quot\;Lucida Grande&quot\;\, Helvetica\, Arial\, sans-serif\; cursor: text\; counter-reset: list-1 0 list-2 0 list-3 0 list-4 0 list-5 0 list-6 0 list-7 0 list-8 0 list-9 0\; white-space-collapse: preserve\;"><br />\nEnjoy some food and drinks as you wander through the WSTN Acheson Festival of Trees\, where we will announce the winners of the best-decorated tree. You will have an opportunity to bid on your favourite tree to take back to the office or your home.<br />\n<br />\nAll proceeds from the live auction will be donated to the Christmas Hamper Program.</p>\n
LOCATION:Join us at Western Star Trucks North located at 24210 114 Ave in Acheson
UID:e.9254.6179
SEQUENCE:3
DTSTAMP:20260421T102911Z
URL:https://members.achesonbusiness.com/events/details/acheson-festival-of-trees-networking-and-live-auction-2024-6179
END:VEVENT

END:VCALENDAR
