BEGIN:VCALENDAR
VERSION:2.0
PRODID:-//ChamberMaster//Event Calendar 2.0//EN
METHOD:PUBLISH
X-PUBLISHED-TTL:P3D
REFRESH-INTERVAL:P3D
CALSCALE:GREGORIAN
BEGIN:VEVENT
DTSTART:20220310T230000Z
DTEND:20220311T010000Z
X-MICROSOFT-CDO-ALLDAYEVENT:FALSE
SUMMARY:Acheson Town Hall: Mayor's Address
DESCRIPTION:As the voice of Acheson\, the ABA collaborates with government officials\, the county\, and surrounding cities to align on key issues to the community. A town hall is an excellent chance to get answers when you have questions that you want to ask your elected officials. \n\n \n\nOur honorable guests and speakers will be:\n\n	Mayor Allan Gamble\, Parkland County\n	Councillor Kristina Kowalski\, Division 2\, Parkland County \n\n  \n\nFollowing a successful stakeholder engagement campaign\, the ABA has identified 4 critical issues for our members in Acheson. Join us for a moderated event to discuss the top issues in Acheson. \n\n \n\nIdentified key issues:\n\n\n	Labour & Employment\n\n	\n		Up to 65% of Acheson members report that they are understaffed\n	\n	\n	Internet\n	\n		Poor and inconsistent internet. Access to fiber at a premium cost and at the user's expense.\n	\n	\n	Infrastructure\n	\n		Road services\, maintenance\, and upgrades. Safety issues\, accidents\, and heavy traffic loads. \n	\n	\n	Government & Taxes\n	\n		Taxes and utility fees as non-voters. Government support on civic\, provincial\, and federal levels.\n	\n	\n\n\nSend in your questions: \n\nPlease send all your question for the Mayor & Councillor to jfulford@achesonbusiness.com\n\n\n\nCovid precautions: \n\nWe will be following current Alberta Covid precautions at the time of the event. We are prepared to move this to a virtual event if Covid gathering restrictions prevent gatherings. The event would adapt to a live stream the Mayor and moderator at Supreme Steel and take questions online. We would reduce the time of the event to 1 hour.
X-ALT-DESC;FMTTYPE=text/html:<span style="font-family:arial\;"><span style="font-size:18px\;"><span style="color:#0E101A\;">As the voice of Acheson\, the ABA collaborates with government officials\, the county\, and surrounding cities to align on key issues to the community. A town hall is an excellent chance to get answers when you have questions that you want to ask your elected officials. </span><br />\n&nbsp\;<br />\n<span style="color:#0E101A\;">Our honorable guests and speakers will be:</span></span></span>\n<ul>\n	<li style="margin-bottom:0cm\;"><span style="font-family:arial\;"><span style="font-size:18px\;"><span style="color:#0E101A\;">Mayor Allan Gamble\, Parkland County</span></span></span></li>\n	<li style="margin-bottom:0cm\;"><span style="font-family:arial\;"><span style="font-size:18px\;"><span style="color:#0E101A\;">Councillor Kristina Kowalski\, Division 2\, Parkland County&nbsp\;</span></span></span></li>\n</ul>\n<span style="font-family:arial\;"> <span style="font-size:18px\;">&nbsp\;<br />\n<span style="color:#0E101A\;">Following a successful stakeholder engagement campaign\, the ABA has identified 4 critical issues for our members in Acheson. Join us for a moderated event to discuss the top issues in Acheson.&nbsp\;</span><br />\n&nbsp\;<br />\n<span style="color:#0E101A\;">Identified key issues:</span></span></span>\n\n<ul>\n	<li style="color:#0E101A\;margin-bottom:0cm\;line-height:normal\;"><span style="font-family:arial\;"><span style="font-size:18px\;">Labour &amp\; Employment</span></span>\n\n	<ul>\n		<li style="color:#0E101A\;margin-bottom:0cm\;line-height:normal\;"><span style="font-family:arial\;"><span style="font-size:18px\;">Up to 65% of Acheson members report that they are understaffed</span></span></li>\n	</ul>\n	</li>\n	<li style="color:#0E101A\;margin-bottom:0cm\;line-height:normal\;"><span style="font-family:arial\;"><span style="font-size:18px\;">Internet</span></span>\n	<ul>\n		<li style="color:#0E101A\;margin-bottom:0cm\;line-height:normal\;"><span style="font-family:arial\;"><span style="font-size:18px\;">Poor and inconsistent internet. Access to fiber at a premium cost and at the user&#39\;s expense.</span></span></li>\n	</ul>\n	</li>\n	<li style="color:#0E101A\;margin-bottom:0cm\;line-height:normal\;"><span style="font-family:arial\;"><span style="font-size:18px\;">Infrastructure</span></span>\n	<ul>\n		<li style="color:#0E101A\;margin-bottom:0cm\;line-height:normal\;"><span style="font-family:arial\;"><span style="font-size:18px\;">Road services\, maintenance\, and upgrades. Safety issues\, accidents\, and heavy traffic loads.&nbsp\;</span></span></li>\n	</ul>\n	</li>\n	<li style="color:#0E101A\;margin-bottom:0cm\;line-height:normal\;"><span style="font-family:arial\;"><span style="font-size:18px\;">Government &amp\; Taxes</span></span>\n	<ul>\n		<li style="color:#0E101A\;margin-bottom:0cm\;line-height:normal\;"><span style="font-family:arial\;"><span style="font-size:18px\;">Taxes and utility fees as non-voters. Government support on civic\, provincial\, and federal levels.</span></span></li>\n	</ul>\n	</li>\n</ul>\n\n<div style="color:#0E101A\;margin-bottom:0cm\;line-height:normal\;"><strong style="color: rgb(14\, 16\, 26)\; font-family: arial\; font-size: 18px\;">Send in your questions:</strong><span style="color: rgb(14\, 16\, 26)\; font-family: arial\; font-size: 18px\;">&nbsp\;<br />\nPlease send all your question for the Mayor &amp\; Councillor to jfulford@achesonbusiness.com</span><br />\n<br />\n<span style="font-size:18px\;"><span style="font-family:arial\;"><strong><span style="color:#0E101A\;">Covid precautions:</span></strong><span style="color:#0E101A\;">&nbsp\;<br />\nWe will be following current <a href="http://We will follow whatever the current and up to date laws are for Alberta (https://www.alberta.ca/covid-19-public-health-actions.aspx)\, and we will follow the rules that any establishment we are using is following. Many establishments are currently following the Restrictions Exemption Program\, which you can learn about from the Alberta Government website here: https://www.alberta.ca/covid-19-public-health-actions.aspx#REP.">Alberta Covid</a> precautions at the time of the event.&nbsp\;We are prepared to move this to a virtual event if Covid gathering restrictions prevent gatherings. The event would adapt to a live stream the Mayor and moderator at Supreme Steel and take questions online. We would reduce the time of the event to 1 hour.&nbsp\;</span></span></span><br />\n<br />\n&nbsp\;</div>\n
LOCATION:Supreme Steel Atrium 28169 96 Ave NW\, Acheson\, AB T7X 6J7
UID:e.9254.2076
SEQUENCE:3
DTSTAMP:20260422T113942Z
URL:https://members.achesonbusiness.com/events/details/acheson-town-hall-mayor-s-address-2076
END:VEVENT

END:VCALENDAR
