BEGIN:VCALENDAR
VERSION:2.0
PRODID:-//ChamberMaster//Event Calendar 2.0//EN
METHOD:PUBLISH
X-PUBLISHED-TTL:P3D
REFRESH-INTERVAL:P3D
CALSCALE:GREGORIAN
BEGIN:VEVENT
DTSTART:20210326T180000Z
DTEND:20210326T193000Z
X-MICROSOFT-CDO-ALLDAYEVENT:FALSE
SUMMARY:Acheson Town Hall (Virtual) - March 26\, 2021
DESCRIPTION:Going to a town hall is a great way to let the government know in-person about the problems that matter to you.\n\n\n\nIf you have questions that you want to ask your elected officials or people who work in government\, a town hall is a good chance to get answers. We are hosting a virtual ABA member-only town hall meeting on March 26 for a Q&A session regarding the Hwy 60 project and the future economic development of the Acheson Industrial Park. \n\n\n\nSpeaker Bio\n\nMLA Shane Getson\n\nShane was elected to the Legislative Assembly for the Constituency of Lac Ste. Anne-Parkland on April 16\, 2019 Previously he worked in the energy sector and construction industry\, supervising major projects all over North America for over two decades. He graduated from NAIT with a Civil Engineering diploma in 1996. With the support of his wife and 4 children\, Shane entered politics\, winning the nomination and subsequently the April 2019 election representing the United Conservative Party. At the end of his first Legislative session\, he was voted "Best Debater" by his fellow MLA's.
X-ALT-DESC;FMTTYPE=text/html:<span style="font-size:16px\;"><strong><span style="font-size:18px\;">Going to a town hall is a great way to let the government know in-person about the problems that matter to you.</span></strong></span><br />\n<br />\nIf you have questions that you want to ask your elected officials or people who work in government\, a town hall is a good chance to get answers.&nbsp\;<span class="JsGRdQ" style="color: rgb(0\, 0\, 0)\;">We are hosting a virtual ABA member-only town hall meeting on March 26 for a Q&amp\;A session regarding the Hwy 60 project and the future economic development of the Acheson Industrial Park.&nbsp\;</span><br />\n<br />\n<strong>Speaker Bio</strong><br />\nMLA Shane Getson<br />\nShane was elected to the Legislative Assembly for the Constituency of Lac Ste. Anne-Parkland on April 16\, 2019 Previously he worked in the energy sector and construction industry\, supervising major projects all over North America for over two decades. He graduated from NAIT with a Civil Engineering diploma in 1996. With the support of his wife and 4 children\, Shane entered politics\, winning the nomination and subsequently the April 2019 election representing the United Conservative Party. At the end of his first Legislative session\, he was voted &ldquo\;Best Debater&rdquo\; by his fellow MLA&rsquo\;s.
LOCATION:Virtual
UID:e.9254.2055
SEQUENCE:3
DTSTAMP:20260423T034729Z
URL:https://members.achesonbusiness.com/events/details/acheson-town-hall-virtual-march-26-2021-2055
END:VEVENT

END:VCALENDAR
