BEGIN:VCALENDAR
VERSION:2.0
PRODID:-//ChamberMaster//Event Calendar 2.0//EN
METHOD:PUBLISH
X-PUBLISHED-TTL:P3D
REFRESH-INTERVAL:P3D
CALSCALE:GREGORIAN
BEGIN:VEVENT
DTSTART:20220528T150000Z
DTEND:20220528T230000Z
X-MICROSOFT-CDO-ALLDAYEVENT:FALSE
SUMMARY:Arrkann Trailers & RV Acheson Grand Opening
DESCRIPTION:Acheson grand opening for Arrkann Trailers & RV
X-ALT-DESC;FMTTYPE=text/html:Acheson grand opening for Arrkann Trailers &amp\; RV
LOCATION:28712 114 Avenue\, Acheson
UID:e.9254.2078
SEQUENCE:3
DTSTAMP:20260421T081713Z
URL:https://members.achesonbusiness.com/events/details/arrkann-trailers-rv-acheson-grand-opening-2078
END:VEVENT

END:VCALENDAR
