BEGIN:VCALENDAR
VERSION:2.0
PRODID:-//ChamberMaster//Event Calendar 2.0//EN
METHOD:PUBLISH
X-PUBLISHED-TTL:P3D
REFRESH-INTERVAL:P3D
CALSCALE:GREGORIAN
BEGIN:VEVENT
DTSTART:20240305T230000Z
DTEND:20240306T003000Z
X-MICROSOFT-CDO-ALLDAYEVENT:FALSE
SUMMARY:Coffee in the Park - March 5\, 2024
DESCRIPTION:This Event is Sold Out!\n\n\n\nGet ready for an engaging networking experience like no other! Join us on March 5th at The Wall Coffee Roasters for Coffee in the Park to a unique event crafted to bring together the vibrant community of Acheson in a casual and friendly setting.\n\n\n\nJoin us to learn about the process of coffee roasting\, participate in a coffee tasting and bring your business cards\, ideas\, and a readiness to connect with like-minded individuals. Coffee in the Park is all about fostering a sense of community\, providing a platform for collaboration\, and enjoying the warmth of connection over a cup of quality coffee.
X-ALT-DESC;FMTTYPE=text/html:<strong>This Event is Sold Out!</strong><br />\n<br />\nGet ready for an engaging networking experience like no other! Join us on March 5th at The Wall Coffee Roasters for Coffee in the Park to a unique event crafted to bring together the vibrant community of Acheson in a casual and friendly setting.<br />\n<br />\nJoin us to learn about the process of coffee roasting\, participate in a coffee tasting and bring your business cards\, ideas\, and a readiness to connect with like-minded individuals. Coffee in the Park is all about fostering a sense of community\, providing a platform for collaboration\, and enjoying the warmth of connection over a cup of quality coffee.<br />\n<br />\n&nbsp\;
LOCATION:The Wall Coffee Roasters 27717 Acheson Rd\, Acheson\, AB T7X 6B1
UID:e.9254.6162
SEQUENCE:3
DTSTAMP:20260420T185835Z
URL:https://members.achesonbusiness.com/events/details/coffee-in-the-park-march-5-2024-6162
END:VEVENT

END:VCALENDAR
