BEGIN:VCALENDAR
VERSION:2.0
PRODID:-//ChamberMaster//Event Calendar 2.0//EN
METHOD:PUBLISH
X-PUBLISHED-TTL:P3D
REFRESH-INTERVAL:P3D
CALSCALE:GREGORIAN
BEGIN:VEVENT
DTSTART:20240905T170000Z
DTEND:20240905T193000Z
X-MICROSOFT-CDO-ALLDAYEVENT:FALSE
SUMMARY:Coffee in the Park- Welcome Back from Summer 2024
DESCRIPTION:Drop by and grab some lunch from some great food trucks and a drink from The Wall Coffee Roasters. One of the food trucks is from Jan Michener of Michener Allen Auctioneering.  Reconnect with friends and business neighbours at this informal event. Come out and support local businesses! Be entered to win some great prizes\, and meet some adorable animals from SCARS.\n\n\n\nDue to the nature of this free event\, please be prepared to cover your own meal costs.
X-ALT-DESC;FMTTYPE=text/html:Drop by and grab some lunch from some great food trucks and a drink from The Wall Coffee Roasters. One of the food trucks is from Jan Michener of Michener Allen Auctioneering.&nbsp\; Reconnect with friends and business neighbours at this informal event. Come out and support local businesses! Be entered to win some great prizes\, and meet some adorable animals from SCARS.<br />\n<br />\nDue to the nature of this free event\, please be prepared to cover your own meal costs.
LOCATION:ABA parking lot- 27717 Acheson Road
UID:e.9254.6167
SEQUENCE:3
DTSTAMP:20260421T102834Z
URL:https://members.achesonbusiness.com/events/details/coffee-in-the-park-welcome-back-from-summer-2024-6167
END:VEVENT

END:VCALENDAR
