BEGIN:VCALENDAR
VERSION:2.0
PRODID:-//ChamberMaster//Event Calendar 2.0//EN
METHOD:PUBLISH
X-PUBLISHED-TTL:P3D
REFRESH-INTERVAL:P3D
CALSCALE:GREGORIAN
BEGIN:VEVENT
DTSTART:20241029T180000Z
DTEND:20241029T193000Z
X-MICROSOFT-CDO-ALLDAYEVENT:FALSE
SUMMARY:Cyber Security Workshop
DESCRIPTION:Cyber Security is crucial for businesses in today's digital landscape. Join us at an upcoming workshop to gain insights from a Cyber Security expert on a range of important topics:\n\n	Understanding Cyber Security fundamentals and current threats facing businesses.\n	Implementing actionable strategies to enhance your organizations security. \n	Practicing basic cyber hygiene and principles.\n	Evaluating vendors and partners for security considerations.\n	Strengthening password protocols and training your employees.\n	Avoiding common brand name pitfalls.\n	Developing a response plan in case of a security breach.\n\nPresenter: Kris Meneses is a Cyber Defense Specialist and is currently the Senior Cyber Security Advisor at Capital Power.\n\n\n\nDon't miss this opportunity to equip yourself with the knowledge and tools to safeguard your business against cyber threats. \n\n\n\n#CyberSecurity #BusinessSecurity #Workshop #DataProtection
X-ALT-DESC;FMTTYPE=text/html:Cyber Security is crucial for businesses in today&#39\;s digital landscape. Join us at an upcoming workshop to gain insights from a Cyber Security expert on a range of important topics:\n<ul>\n	<li>Understanding Cyber Security fundamentals and current threats facing businesses.</li>\n	<li>Implementing actionable strategies to enhance your organizations security.&nbsp\;</li>\n	<li>Practicing basic cyber hygiene and principles.</li>\n	<li>Evaluating vendors and partners for security considerations.</li>\n	<li>Strengthening password protocols and training your employees.</li>\n	<li>Avoiding common brand name pitfalls.</li>\n	<li>Developing a response plan in case of a security breach.</li>\n</ul>\nPresenter: Kris Meneses is a Cyber Defense Specialist and is currently the Senior Cyber Security Advisor at Capital Power.<br />\n<br />\nDon&#39\;t miss this opportunity to equip yourself with the knowledge and tools to safeguard your business against cyber threats.&nbsp\;<br />\n<br />\n#CyberSecurity #BusinessSecurity #Workshop #DataProtection
LOCATION:Supreme Steel 28169 96 Avenue\, Zone 5 Acheson AB\, T7X 6J7\,
UID:e.9254.6168
SEQUENCE:3
DTSTAMP:20260421T080627Z
URL:https://members.achesonbusiness.com/events/details/cyber-security-workshop-6168
END:VEVENT

END:VCALENDAR
