BEGIN:VCALENDAR
VERSION:2.0
PRODID:-//ChamberMaster//Event Calendar 2.0//EN
METHOD:PUBLISH
X-PUBLISHED-TTL:P3D
REFRESH-INTERVAL:P3D
CALSCALE:GREGORIAN
BEGIN:VEVENT
DTSTART:20200423T164500Z
DTEND:20200423T193000Z
X-MICROSOFT-CDO-ALLDAYEVENT:FALSE
SUMMARY:Innovation in Business [Tentative Date]
DESCRIPTION:Save the date! Join us on April 23\, 2020 for a highly engaging business networking event that will provide you with the tools to help you be proactive rather than reactive to global trends. Our keynote speaker will be exploring the topic of Artificial Intelligence and how to integrate it within your business.\n\n\n\nMore details to follow shortly.
X-ALT-DESC;FMTTYPE=text/html:<strong>Save the date! </strong>Join us on April 23\, 2020 for a highly engaging business networking event that will provide you with the tools to help you be proactive rather than reactive to global trends. Our keynote speaker will be exploring the topic of Artificial Intelligence and how to integrate it within your business.<br />\n<br />\n<strong>More details to follow shortly.</strong>
LOCATION:River Cree Resort & Casino
UID:e.9254.224
SEQUENCE:3
DTSTAMP:20260423T201511Z
URL:https://members.achesonbusiness.com/events/details/innovation-in-business-tentative-date-224
END:VEVENT

END:VCALENDAR
