BEGIN:VCALENDAR
VERSION:2.0
PRODID:-//ChamberMaster//Event Calendar 2.0//EN
METHOD:PUBLISH
X-PUBLISHED-TTL:P3D
REFRESH-INTERVAL:P3D
CALSCALE:GREGORIAN
BEGIN:VEVENT
DTSTART:20240229T153000Z
DTEND:20240229T170000Z
X-MICROSOFT-CDO-ALLDAYEVENT:FALSE
SUMMARY:Land Development Conversation: What you Need to Know
DESCRIPTION:Join the ABA and Parkland County as we host an informal and educational session exploring all things land and site development with Nick Pryce from V3 Companies of Canada.\n\n\n\nThis session is important for anyone looking to develop or improve land for your own use\, or to position your land for sale for future development. It would be of value to anyone hoping to gain a better understanding of the stakeholders that you need to involve and the critical elements required to develop a parcel of land.\n\n\n\nExpect to learn about land use policy documents such as development permits\, land use bylaws\, municipal development plans\, area structure plans and conceptual schemes. We'll also cover the development steps\, sequencing and costs/timelines associated with this type of growth.\n\n\n\nThis session is open to anyone seeking to learn more information about developing and building on your land\, no matter how big or small!\n\n\n\nCoffee and light snacks will be provided.
X-ALT-DESC;FMTTYPE=text/html:Join the ABA and Parkland County as we host an informal and educational session exploring all things land and site development with Nick Pryce from V3 Companies of Canada.<br />\n<br />\nThis session is important for anyone looking to develop or improve land for your own use\, or to position your land for sale for future development. It would be of value to anyone hoping to gain a better understanding of the stakeholders that you need to involve and the critical elements required to develop a parcel of land.<br />\n<br />\nExpect to learn about land use policy documents such as development permits\, land use bylaws\, municipal development plans\, area structure plans and conceptual schemes. We&#39\;ll also cover the development steps\, sequencing and costs/timelines associated with this type of growth.<br />\n<br />\nThis session is open to anyone seeking to learn more information about developing and building on your land\, no matter how big or small!<br />\n<br />\nCoffee and light snacks will be provided.<br />\n&nbsp\;
LOCATION:Acheson Fire Station 11350 274 Street Acheson\, AB Zone 1
UID:e.9254.6163
SEQUENCE:3
DTSTAMP:20260420T174156Z
URL:https://members.achesonbusiness.com/events/details/land-development-conversation-what-you-need-to-know-6163
END:VEVENT

END:VCALENDAR
