BEGIN:VCALENDAR
VERSION:2.0
PRODID:-//ChamberMaster//Event Calendar 2.0//EN
METHOD:PUBLISH
X-PUBLISHED-TTL:P3D
REFRESH-INTERVAL:P3D
CALSCALE:GREGORIAN
BEGIN:VEVENT
DTSTART:20240620T220000Z
DTEND:20240620T233000Z
X-MICROSOFT-CDO-ALLDAYEVENT:FALSE
SUMMARY:Launch Party
DESCRIPTION:Join us at The Wall Coffee Roasters as we unveil and launch something new and exciting coming to Acheson.\n\nDon't miss out on being the first to know what it is!\n\n\n\nThis is free event to attend however space is limited so register today!
X-ALT-DESC;FMTTYPE=text/html:Join us at The Wall Coffee Roasters as we unveil and launch something new and exciting coming to Acheson.<br />\nDon&#39\;t miss out on being the first to know what it is!<br />\n<br />\nThis is free event to attend however space is limited so register today!
LOCATION:The Wall Coffee Roaster 27717 Acheson Road\, Acheson AB
UID:e.9254.6166
SEQUENCE:3
DTSTAMP:20260420T232204Z
URL:https://members.achesonbusiness.com/events/details/launch-party-6166
END:VEVENT

END:VCALENDAR
