BEGIN:VCALENDAR
VERSION:2.0
PRODID:-//ChamberMaster//Event Calendar 2.0//EN
METHOD:PUBLISH
X-PUBLISHED-TTL:P3D
REFRESH-INTERVAL:P3D
CALSCALE:GREGORIAN
BEGIN:VEVENT
DTSTART:20241008T140000Z
DTEND:20241008T150000Z
X-MICROSOFT-CDO-ALLDAYEVENT:FALSE
SUMMARY:Peninsula Webinar
DESCRIPTION:The ABA is partnering with one of our Associate Members\, Peninsula Canada\, to bring you an information webinar at 8 a.m. MST this Wednesday\, October 9 to share how Peninsula can help the Acheson business community be compliant regarding health and safety and HR. Please see the link above to register.
X-ALT-DESC;FMTTYPE=text/html:<span style="font-family: Aptos\, Aptos_EmbeddedFont\, Aptos_MSFontService\, Calibri\, Helvetica\, sans-serif\; font-size: 14.6667px\; text-align: center\; background-color: rgb(255\, 255\, 255)\;">The ABA is partnering with one of our Associate Members\, Peninsula Canada\,&nbsp\;to bring you an</span><b style="font-family: Aptos\, Aptos_EmbeddedFont\, Aptos_MSFontService\, Calibri\, Helvetica\, sans-serif\; font-size: 14.6667px\; text-align: center\; background-color: rgb(255\, 255\, 255)\;">&nbsp\;information webinar at 8 a.m. MST this Wednesday\, October 9&nbsp\;</b><span style="font-family: Aptos\, Aptos_EmbeddedFont\, Aptos_MSFontService\, Calibri\, Helvetica\, sans-serif\; font-size: 14.6667px\; text-align: center\; background-color: rgb(255\, 255\, 255)\;">to share how Peninsula can help the Acheson business community be compliant regarding&nbsp\;health and safety and HR. Please see the link above to register.</span><br />\n<br />\n&nbsp\;
LOCATION:Virtual Meeting\, through Webinar link
UID:e.9254.6170
SEQUENCE:3
DTSTAMP:20260421T091217Z
URL:https://members.achesonbusiness.com/events/details/peninsula-webinar-6170
END:VEVENT

END:VCALENDAR
