BEGIN:VCALENDAR
VERSION:2.0
PRODID:-//ChamberMaster//Event Calendar 2.0//EN
METHOD:PUBLISH
X-PUBLISHED-TTL:P3D
REFRESH-INTERVAL:P3D
CALSCALE:GREGORIAN
BEGIN:VEVENT
DTSTART:20241127T000000Z
DTEND:20241127T030000Z
X-MICROSOFT-CDO-ALLDAYEVENT:FALSE
SUMMARY:Premier Danielle Smith- Alberta Enterprise Group & Acheson Business Association
DESCRIPTION:Get ready for an incredible evening with Premier Danielle Smith! Alberta Enterprise Group and Acheson Business Association are thrilled to present this exclusive event happening on November 26th\, 2024. This is your chance to hear directly from the Premier and connect with top business leaders in Alberta!\n\n\n\nPlease use the link to register on the AEG website.
X-ALT-DESC;FMTTYPE=text/html:Get ready for an incredible evening with Premier Danielle Smith! Alberta Enterprise Group and Acheson Business Association are thrilled to present this exclusive event happening on November 26th\, 2024. This is your chance to hear directly from the Premier and connect with top business leaders in Alberta!<br />\n<br />\nPlease use the link to register on the AEG website.&nbsp\;
LOCATION:Supreme Steel 28169 96 Ave\, Acheson AB T7X 6J7
UID:e.9254.6171
SEQUENCE:3
DTSTAMP:20260421T091508Z
URL:https://members.achesonbusiness.com/events/details/premier-danielle-smith-alberta-enterprise-group-acheson-business-association-6171
END:VEVENT

END:VCALENDAR
