BEGIN:VCALENDAR
VERSION:2.0
PRODID:-//ChamberMaster//Event Calendar 2.0//EN
METHOD:PUBLISH
X-PUBLISHED-TTL:P3D
REFRESH-INTERVAL:P3D
CALSCALE:GREGORIAN
BEGIN:VEVENT
DTSTART:20220120T210000Z
DTEND:20220120T220000Z
X-MICROSOFT-CDO-ALLDAYEVENT:FALSE
SUMMARY:YEG Exclusive 7% (Guaranteed Interest Paid Annually) 5 Year Convertible Debenture Offering
DESCRIPTION:With the anticipated post-COVID boom\, and historically low interest rates\, there is now an unprecedented window of opportunity to invest in real estate. \n\nOur public company Yorkton Equity Group Inc. (TSX.V: YEG) currently has a 7% (Interest Paid Annually in Cash) 5 Year Convertible Debenture Offering available for subscription for a limited time. The offering is RRSP\, TFSA\, RESP\, and LIRA eligible. \n\nYEG is focused on the acquisition of multifamily rental properties that can generate a growing stream of cash flow and capital gains\, in strategic markets with its current focus in British Columbia (Metro Vancouver\, Metro Victoria\, Kelowna\, Penticton etc.) \n\nTo register for our webinars and for more information click on the link below: https://yorktonequitygroup.com/sitemap/yeg-private-placement/
X-ALT-DESC;FMTTYPE=text/html:<p>With the anticipated post-COVID boom\, and historically low interest rates\, there is now an unprecedented window of opportunity to invest in real estate.&nbsp\;</p>\n\n<p>Our public company Yorkton Equity Group Inc. (TSX.V: YEG) currently has a 7% (Interest Paid Annually in Cash) 5 Year Convertible Debenture Offering available for subscription for a limited time. The offering is RRSP\, TFSA\, RESP\, and LIRA eligible.&nbsp\;</p>\n\n<p>YEG is focused on the acquisition of multifamily rental properties that can generate a growing stream of cash flow and capital gains\, in strategic markets with its current focus in British Columbia (Metro Vancouver\, Metro Victoria\, Kelowna\, Penticton etc.)&nbsp\;</p>\n\n<p>To register for our webinars and for more information click on the link below: https://yorktonequitygroup.com/sitemap/yeg-private-placement/</p>\n
LOCATION:3165 Manulife Place Edmonton\, AB T5J 3S4
UID:e.9254.2075
SEQUENCE:3
DTSTAMP:20260422T141859Z
URL:https://members.achesonbusiness.com/events/details/yeg-exclusive-7-guaranteed-interest-paid-annually-5-year-convertible-debenture-offering-01-20-2022-2075
END:VEVENT

END:VCALENDAR
